BEGIN:VCALENDAR
VERSION:2.0
PRODID:-//Ukiah Valley Golf Course - ECPv6.15.20//NONSGML v1.0//EN
CALSCALE:GREGORIAN
METHOD:PUBLISH
X-ORIGINAL-URL:https://ukiahgolf.com
X-WR-CALDESC:Events for Ukiah Valley Golf Course
REFRESH-INTERVAL;VALUE=DURATION:PT1H
X-Robots-Tag:noindex
X-PUBLISHED-TTL:PT1H
BEGIN:VTIMEZONE
TZID:America/New_York
BEGIN:DAYLIGHT
TZOFFSETFROM:-0500
TZOFFSETTO:-0400
TZNAME:EDT
DTSTART:20200308T070000
END:DAYLIGHT
BEGIN:STANDARD
TZOFFSETFROM:-0400
TZOFFSETTO:-0500
TZNAME:EST
DTSTART:20201101T060000
END:STANDARD
BEGIN:DAYLIGHT
TZOFFSETFROM:-0500
TZOFFSETTO:-0400
TZNAME:EDT
DTSTART:20210314T070000
END:DAYLIGHT
BEGIN:STANDARD
TZOFFSETFROM:-0400
TZOFFSETTO:-0500
TZNAME:EST
DTSTART:20211107T060000
END:STANDARD
BEGIN:DAYLIGHT
TZOFFSETFROM:-0500
TZOFFSETTO:-0400
TZNAME:EDT
DTSTART:20220313T070000
END:DAYLIGHT
BEGIN:STANDARD
TZOFFSETFROM:-0400
TZOFFSETTO:-0500
TZNAME:EST
DTSTART:20221106T060000
END:STANDARD
END:VTIMEZONE
BEGIN:VEVENT
DTSTART;TZID=America/New_York:20210918T080000
DTEND;TZID=America/New_York:20210918T080000
DTSTAMP:20260422T045520
CREATED:20210913T131124Z
LAST-MODIFIED:20210913T172725Z
UID:10000239-1631952000-1631952000@ukiahgolf.com
SUMMARY:Newell Rawles Competition
DESCRIPTION:Newell Rawles Competition\nSaturday\, September 18th\n8:00am Tee Times\n$50 per team \nFormat:\nTwo Man Team Scramble (make your own team)\nEach player must have at least (7) tee shots\nTeam handicap is determined by adding both indexes and dividing by (4) \nAll players must be at least 18 years old and a Ukiah Men’s Golf Club member. Players must have an established handicap index as of 9/16/21. \nCall the Ukaih Pro Shop to sign up (707) 467-2832\nThe deadline for registrations is 5:00pm on 9/16/21
URL:https://ukiahgolf.com/event/newell-rawles-competition/
CATEGORIES:Upcoming Events
ATTACH;FMTTYPE=image/png:https://ukiahgolf.com/wp-content/uploads/2021/09/Newell-Rawles-Competition-ukiah-blog.png
END:VEVENT
END:VCALENDAR