BEGIN:VCALENDAR
VERSION:2.0
PRODID:-//Ukiah Valley Golf Course - ECPv6.15.20//NONSGML v1.0//EN
CALSCALE:GREGORIAN
METHOD:PUBLISH
X-ORIGINAL-URL:https://ukiahgolf.com
X-WR-CALDESC:Events for Ukiah Valley Golf Course
REFRESH-INTERVAL;VALUE=DURATION:PT1H
X-Robots-Tag:noindex
X-PUBLISHED-TTL:PT1H
BEGIN:VTIMEZONE
TZID:America/New_York
BEGIN:DAYLIGHT
TZOFFSETFROM:-0500
TZOFFSETTO:-0400
TZNAME:EDT
DTSTART:20150308T070000
END:DAYLIGHT
BEGIN:STANDARD
TZOFFSETFROM:-0400
TZOFFSETTO:-0500
TZNAME:EST
DTSTART:20151101T060000
END:STANDARD
BEGIN:DAYLIGHT
TZOFFSETFROM:-0500
TZOFFSETTO:-0400
TZNAME:EDT
DTSTART:20160313T070000
END:DAYLIGHT
BEGIN:STANDARD
TZOFFSETFROM:-0400
TZOFFSETTO:-0500
TZNAME:EST
DTSTART:20161106T060000
END:STANDARD
BEGIN:DAYLIGHT
TZOFFSETFROM:-0500
TZOFFSETTO:-0400
TZNAME:EDT
DTSTART:20170312T070000
END:DAYLIGHT
BEGIN:STANDARD
TZOFFSETFROM:-0400
TZOFFSETTO:-0500
TZNAME:EST
DTSTART:20171105T060000
END:STANDARD
END:VTIMEZONE
BEGIN:VEVENT
DTSTART;TZID=America/New_York:20160719T000000
DTEND;TZID=America/New_York:20160719T140000
DTSTAMP:20260420T155827
CREATED:20160712T171155Z
LAST-MODIFIED:20160712T171155Z
UID:10000131-1468886400-1468936800@ukiahgolf.com
SUMMARY:Jr Camps & Clinics
DESCRIPTION:Jr. Camps and Clinics \nUkiah Valley Golf Course \n  \nJr. Camp \n\nChipping\nPutting\nDriving\nIron Play\nGolf Etiquette\n\n  \nTuesday\, Wednesday & Friday July 19th\, 20th & 22nd \n12pm-2:00pm ages 6-11 \nTuesday\, Wednesday & Friday July 26th\, 27th & 29th \n12pm-2:00pm ages 12-17 \n$120 per player \n  \nJr. Clinics \nWeek 1 – Putting \nWeek 2 – Chipping \nWeek 3 – Irons \nWeek 4 – Driving \nWeek 5 – Playing \n  \nJr. Clinics ages 6-11 start Tuesday July 19th @ 3-4:00pm.  Clinics will continue every Tuesday for this age group for the next 5 weeks.  Last clinic for this series is Tuesday\, August 16. \nJr. Clinics ages 12-17 start Friday July 22nd @ 3-4:00pm.  Clinics will continue every Tuesday for this age group for the next 5 weeks.  Last clinic for this series is Thursday\, August 19. \nCost for all 5 clinics is $125 per player\, or $30.00 per clinic per player. \nCall the Pro Shop for details and reservations 707 467-2832
URL:https://ukiahgolf.com/event/jr-camps-clinics/
LOCATION:Ukiah Valley Golf Course\, CA\, United States
ORGANIZER;CN="Jeff Kaiser":MAILTO:ukiahgolf@gmail.com
END:VEVENT
END:VCALENDAR